BEGIN:VCALENDAR
VERSION:2.0
PRODID:-//Eltisley Parish Council//Meeting Calendar//EN
CALSCALE:GREGORIAN
METHOD:PUBLISH
BEGIN:VEVENT
UID:72374-20220510@eltisley-pc.gov.uk
DTSTAMP:20260422T155935Z
DTSTART;VALUE=DATE:20220510
DTEND;VALUE=DATE:20220511
SUMMARY:Annual Parish Meeting &#8211\\; 10th May 2022
DESCRIPTION:Annual Parish Meeting\nView details: https://eltisley-pc.gov.uk/meetings/annual-parish-meeting-10th-may-2022/
URL:https://eltisley-pc.gov.uk/meetings/annual-parish-meeting-10th-may-2022/
END:VEVENT
END:VCALENDAR
