BEGIN:VCALENDAR
VERSION:2.0
PRODID:-//Eltisley Parish Council//Meeting Calendar//EN
CALSCALE:GREGORIAN
METHOD:PUBLISH
BEGIN:VEVENT
UID:72371-20250513@eltisley-pc.gov.uk
DTSTAMP:20260422T153202Z
DTSTART;VALUE=DATE:20250513
DTEND;VALUE=DATE:20250514
SUMMARY:Annual Parish Meeting &#8211\\; 13th May 2025
DESCRIPTION:Annual Parish Meeting\nView details: https://eltisley-pc.gov.uk/meetings/annual-parish-meeting-13th-may-2025/
URL:https://eltisley-pc.gov.uk/meetings/annual-parish-meeting-13th-may-2025/
END:VEVENT
END:VCALENDAR
