BEGIN:VCALENDAR
VERSION:2.0
PRODID:-//Eltisley Parish Council//Meeting Calendar//EN
CALSCALE:GREGORIAN
METHOD:PUBLISH
BEGIN:VEVENT
UID:72364-20230509@eltisley-pc.gov.uk
DTSTAMP:20260422T165745Z
DTSTART;VALUE=DATE:20230509
DTEND;VALUE=DATE:20230510
SUMMARY:Annual Parish Meeting &#8211\\; 9th May 2023
DESCRIPTION:Annual Parish Meeting\nView details: https://eltisley-pc.gov.uk/meetings/annual-parish-meeting/
URL:https://eltisley-pc.gov.uk/meetings/annual-parish-meeting/
END:VEVENT
END:VCALENDAR
