BEGIN:VCALENDAR
VERSION:2.0
PRODID:-//Eltisley Parish Council//Meeting Calendar//EN
CALSCALE:GREGORIAN
METHOD:PUBLISH
BEGIN:VEVENT
UID:72339-20260526@eltisley-pc.gov.uk
DTSTAMP:20260422T115805Z
DTSTART;VALUE=DATE:20260526
DTEND;VALUE=DATE:20260527
SUMMARY:Council Meeting &#8211\\; 26th May 2026
DESCRIPTION:Full Council Meeting\nView details: https://eltisley-pc.gov.uk/meetings/council-meeting-26th-may-2026/
URL:https://eltisley-pc.gov.uk/meetings/council-meeting-26th-may-2026/
END:VEVENT
END:VCALENDAR
