BEGIN:VCALENDAR
VERSION:2.0
PRODID:-//Eltisley Parish Council//Meeting Calendar//EN
CALSCALE:GREGORIAN
METHOD:PUBLISH
BEGIN:VEVENT
UID:70730-20260310@eltisley-pc.gov.uk
DTSTAMP:20260422T134357Z
DTSTART;VALUE=DATE:20260310
DTEND;VALUE=DATE:20260311
SUMMARY:Council Meeting &#8211\\; 10th March 2026
DESCRIPTION:Full Council Meeting\nView details: https://eltisley-pc.gov.uk/meetings/council-meeting-10th-march-2026/
URL:https://eltisley-pc.gov.uk/meetings/council-meeting-10th-march-2026/
END:VEVENT
END:VCALENDAR
