BEGIN:VCALENDAR
VERSION:2.0
PRODID:-//Eltisley Parish Council//Meeting Calendar//EN
CALSCALE:GREGORIAN
METHOD:PUBLISH
BEGIN:VEVENT
UID:70729-20260113@eltisley-pc.gov.uk
DTSTAMP:20260422T141831Z
DTSTART;VALUE=DATE:20260113
DTEND;VALUE=DATE:20260114
SUMMARY:Council Meeting &#8211\\; 13th January 2026
DESCRIPTION:Full Council Meeting\nView details: https://eltisley-pc.gov.uk/meetings/council-meeting-13th-january-2026/
URL:https://eltisley-pc.gov.uk/meetings/council-meeting-13th-january-2026/
END:VEVENT
END:VCALENDAR
