BEGIN:VCALENDAR
VERSION:2.0
PRODID:-//Eltisley Parish Council//Meeting Calendar//EN
CALSCALE:GREGORIAN
METHOD:PUBLISH
BEGIN:VEVENT
UID:70725-20251111@eltisley-pc.gov.uk
DTSTAMP:20260422T135807Z
DTSTART;VALUE=DATE:20251111
DTEND;VALUE=DATE:20251112
SUMMARY:Council Meeting &#8211\\; 11 November 2025
DESCRIPTION:Full Council Meeting\nView details: https://eltisley-pc.gov.uk/meetings/meeting-name-here/
URL:https://eltisley-pc.gov.uk/meetings/meeting-name-here/
END:VEVENT
END:VCALENDAR
