BEGIN:VCALENDAR
VERSION:2.0
PRODID:-//Eltisley Parish Council//Meeting Calendar//EN
CALSCALE:GREGORIAN
METHOD:PUBLISH
BEGIN:VEVENT
UID:70455-20250311@eltisley-pc.gov.uk
DTSTAMP:20260422T171029Z
DTSTART;VALUE=DATE:20250311
DTEND;VALUE=DATE:20250312
SUMMARY:Council Meeting – 11 March 2025
DESCRIPTION:Full Council Meeting\nView details: https://eltisley-pc.gov.uk/meetings/council-meeting-11-march-2025/
URL:https://eltisley-pc.gov.uk/meetings/council-meeting-11-march-2025/
END:VEVENT
END:VCALENDAR
