BEGIN:VCALENDAR
VERSION:2.0
PRODID:-//Eltisley Parish Council//Meeting Calendar//EN
CALSCALE:GREGORIAN
METHOD:PUBLISH
BEGIN:VEVENT
UID:70446-20250729@eltisley-pc.gov.uk
DTSTAMP:20260422T155914Z
DTSTART;VALUE=DATE:20250729
DTEND;VALUE=DATE:20250730
SUMMARY:Council Meeting – 29 July 2025
DESCRIPTION:Full Council Meeting\nView details: https://eltisley-pc.gov.uk/meetings/council-meeting-29-july-2025/
URL:https://eltisley-pc.gov.uk/meetings/council-meeting-29-july-2025/
END:VEVENT
END:VCALENDAR
